BEGIN:VCALENDAR
VERSION:2.0
PRODID:-//All Saints Fordham &amp; Eight Ash Green - ECPv5.1.1//NONSGML v1.0//EN
CALSCALE:GREGORIAN
METHOD:PUBLISH
X-WR-CALNAME:All Saints Fordham &amp; Eight Ash Green
X-ORIGINAL-URL:https://fordhamchurch.org.uk
X-WR-CALDESC:Events for All Saints Fordham &amp; Eight Ash Green
BEGIN:VTIMEZONE
TZID:Europe/London
BEGIN:DAYLIGHT
TZOFFSETFROM:+0000
TZOFFSETTO:+0100
TZNAME:BST
DTSTART:20260329T010000
END:DAYLIGHT
BEGIN:STANDARD
TZOFFSETFROM:+0100
TZOFFSETTO:+0000
TZNAME:GMT
DTSTART:20261025T010000
END:STANDARD
END:VTIMEZONE
BEGIN:VEVENT
DTSTART;TZID=Europe/London:20260426T100000
DTEND;TZID=Europe/London:20260426T111500
DTSTAMP:20260423T115742
CREATED:20260422T192912Z
LAST-MODIFIED:20260423T101723Z
UID:23180-1777197600-1777202100@fordhamchurch.org.uk
SUMMARY:Jesus is Lord! Belonging to his Spirit filled Church
DESCRIPTION:Title:Jesus is Lord! Belonging to his Spirit filled Church\nLocation: 10:00 – 11:00 Fordham Church\nPreacher: Francis Blight\nTeaching Passage: Acts 2.42-47 \nWith All Saints Club groups for 4-16 year olds. The service will include a short Giving Update on the church finances\, to encourage us in our support for the church during 2026. \nOnline Church: Watch\n                (This will be available from 10:00am on Sunday) \n                \n                \n                Online Church\n                \n                 \nActs 2:42-47\n\n\n\n\nBible Quote\n\n\n2:42 They devoted themselves to the apostles' teaching and to the fellowship\, to the breaking of bread and to prayer. \n2:43 Everyone was filled with awe\, and many wonders and miraculous signs were done by the apostles. \n2:44 All the believers were together and had everything in common. \n2:45 Selling their possessions and goods\, they gave to anyone as he had need. \n\n2:46 Every day they continued to meet together in the temple courts. They broke bread in their homes and ate together with glad and sincere hearts\, \n2:47 praising God and enjoying the favor of all the people. And the Lord added to their number daily those who were being saved. \n\n\n\n
URL:https://fordhamchurch.org.uk/event/jesus-is-lord-belonging-to-his-spirit-filled-church/
LOCATION:Fordham Church\, Fordham Hall\, Church Rd\, Fordham\, Essex\, CO6 3NL\, United Kingdom
CATEGORIES:Fordham Services
END:VEVENT
END:VCALENDAR